BEGIN:VCALENDAR
VERSION:2.0
PRODID:-//Skyway Golf &amp; Country Club - ECPv6.15.20//NONSGML v1.0//EN
CALSCALE:GREGORIAN
METHOD:PUBLISH
X-WR-CALNAME:Skyway Golf &amp; Country Club
X-ORIGINAL-URL:https://skywaycountryclub.com
X-WR-CALDESC:Events for Skyway Golf &amp; Country Club
REFRESH-INTERVAL;VALUE=DURATION:PT1H
X-Robots-Tag:noindex
X-PUBLISHED-TTL:PT1H
BEGIN:VTIMEZONE
TZID:America/Boise
BEGIN:DAYLIGHT
TZOFFSETFROM:-0700
TZOFFSETTO:-0600
TZNAME:MDT
DTSTART:20250309T090000
END:DAYLIGHT
BEGIN:STANDARD
TZOFFSETFROM:-0600
TZOFFSETTO:-0700
TZNAME:MST
DTSTART:20251102T080000
END:STANDARD
BEGIN:DAYLIGHT
TZOFFSETFROM:-0700
TZOFFSETTO:-0600
TZNAME:MDT
DTSTART:20260308T090000
END:DAYLIGHT
BEGIN:STANDARD
TZOFFSETFROM:-0600
TZOFFSETTO:-0700
TZNAME:MST
DTSTART:20261101T080000
END:STANDARD
BEGIN:DAYLIGHT
TZOFFSETFROM:-0700
TZOFFSETTO:-0600
TZNAME:MDT
DTSTART:20270314T090000
END:DAYLIGHT
BEGIN:STANDARD
TZOFFSETFROM:-0600
TZOFFSETTO:-0700
TZNAME:MST
DTSTART:20271107T080000
END:STANDARD
END:VTIMEZONE
BEGIN:VEVENT
DTSTART;TZID=America/Boise:20260819T080000
DTEND;TZID=America/Boise:20260823T170000
DTSTAMP:20260423T052852
CREATED:20260309T211313Z
LAST-MODIFIED:20260309T211313Z
UID:2949-1787126400-1787504400@skywaycountryclub.com
SUMMARY:Fair Weekend Tournament (Member/ Guest)
DESCRIPTION:MEMBER/GUEST \nAugust 19th – 23th play any time \n18 holes \nTEAM/COUPLES: 2 Person Red\, White\, & Blue Scramble \nINDIVIDUAL: Gross/Net & Skins Red\, White\, & Blue \nStart from the WHITES. Bogey or worse move to the REDS. Par move to the WHITES. Birdie or better move to the BLUES. \n$10 per game per player
URL:https://skywaycountryclub.com/events/fair-weekend-tournament-member-guest-4/
CATEGORIES:Weekend Games (Member/Guest)
END:VEVENT
END:VCALENDAR