BEGIN:VCALENDAR
VERSION:2.0
PRODID:-//Skyway Golf &amp; Country Club - ECPv6.15.20//NONSGML v1.0//EN
CALSCALE:GREGORIAN
METHOD:PUBLISH
X-ORIGINAL-URL:https://skywaycountryclub.com
X-WR-CALDESC:Events for Skyway Golf &amp; Country Club
REFRESH-INTERVAL;VALUE=DURATION:PT1H
X-Robots-Tag:noindex
X-PUBLISHED-TTL:PT1H
BEGIN:VTIMEZONE
TZID:America/Boise
BEGIN:DAYLIGHT
TZOFFSETFROM:-0700
TZOFFSETTO:-0600
TZNAME:MDT
DTSTART:20250309T090000
END:DAYLIGHT
BEGIN:STANDARD
TZOFFSETFROM:-0600
TZOFFSETTO:-0700
TZNAME:MST
DTSTART:20251102T080000
END:STANDARD
BEGIN:DAYLIGHT
TZOFFSETFROM:-0700
TZOFFSETTO:-0600
TZNAME:MDT
DTSTART:20260308T090000
END:DAYLIGHT
BEGIN:STANDARD
TZOFFSETFROM:-0600
TZOFFSETTO:-0700
TZNAME:MST
DTSTART:20261101T080000
END:STANDARD
BEGIN:DAYLIGHT
TZOFFSETFROM:-0700
TZOFFSETTO:-0600
TZNAME:MDT
DTSTART:20270314T090000
END:DAYLIGHT
BEGIN:STANDARD
TZOFFSETFROM:-0600
TZOFFSETTO:-0700
TZNAME:MST
DTSTART:20271107T080000
END:STANDARD
END:VTIMEZONE
BEGIN:VEVENT
DTSTART;VALUE=DATE:20260904
DTEND;VALUE=DATE:20260908
DTSTAMP:20260423T070812
CREATED:20260309T211637Z
LAST-MODIFIED:20260309T211655Z
UID:2951-1788480000-1788825599@skywaycountryclub.com
SUMMARY:Labor Day Weekend (Member/ Guest)
DESCRIPTION:18 Hole Weekend Game \nTeam: 2 person Best Ball \nIndividual: Eclectic & Skins \n$10 per game per player
URL:https://skywaycountryclub.com/events/labor-day-weekend-member-guest-2/
CATEGORIES:Weekend Games (Member/Guest)
END:VEVENT
END:VCALENDAR